BEGIN:VCALENDAR
VERSION:2.0
PRODID:-//https://calenda-formation.labocleo.org
X-WR-CALNAME:Calenda
X-WR-TIMEZONE:Europe/Paris
CALSCALE:GREGORIAN
X-WR-CALDESC:Le calendrier des lettres et sciences humaines et sociales
METHOD:PUBLISH
BEGIN:VEVENT
DTSTART;VALUE=DATE:20170515
DTEND;VALUE=DATE:20170516
UID:399570-20170515@calenda.revues.org
SUMMARY:Concevoir et exploiter les sources numériques de la recherche en SHS
URL:https://calenda-formation.labocleo.org/399570
DESCRIPTION:Cette formation s'adresse aux enseignants-chercheurs\, chercheurs\, doctorants\, ingénieurs et techniciens\, bibliothécaires impliqués ou allant être impliqués dans un projet de numérisation des sources de la recherche. L’action nationale de formation « … Weitere Informationen https://calenda-formation.labocleo.org/399570
LOCATION:Aussois
END:VEVENT
END:VCALENDAR
