BEGIN:VCALENDAR
VERSION:2.0
PRODID:-//https://calenda-formation.labocleo.org
X-WR-CALNAME:Calenda
X-WR-TIMEZONE:Europe/Paris
CALSCALE:GREGORIAN
X-WR-CALDESC:Le calendrier des lettres et sciences humaines et sociales
METHOD:PUBLISH
BEGIN:VEVENT
DTSTART;VALUE=DATE:20170615
DTEND;VALUE=DATE:20170616
UID:399583-20170615@calenda.revues.org
SUMMARY:L’Autriche-Hongrie des années 1866-1918
URL:https://calenda-formation.labocleo.org/399583
DESCRIPTION:En 2016-2017 l’Autriche et la Hongrie fêtent le 150e anniversaire du compromis constitutionnel de 1866-67. La Constitution adoptée à l’époque a créé un cadre pour un développement rapide de la monarchie constitutionnelle et la construction de l’État … Más informaciones https://calenda-formation.labocleo.org/399583
LOCATION:Estrasburgo
END:VEVENT
END:VCALENDAR
