BEGIN:VCALENDAR
VERSION:2.0
PRODID:-//https://calenda-formation.labocleo.org
X-WR-CALNAME:Calenda
X-WR-TIMEZONE:Europe/Paris
CALSCALE:GREGORIAN
X-WR-CALDESC:The calendar for arts, humanities and social sciences
METHOD:PUBLISH
BEGIN:VEVENT
DTSTART;VALUE=DATE:20170501
DTEND;VALUE=DATE:20170502
UID:399691-20170501@calenda.revues.org
SUMMARY:"Saying nearly the same thing" - art history and its translations (19th-21st centuries)
URL:https://calenda-formation.labocleo.org/399691
DESCRIPTION:Les historiens de l’art manifestent\, depuis quelques années\, un intérêt croissant pour les questions d’ordre linguistique\, discursif et rhétorique appliquées à leur discipline. Qu’en est-il de la traduction interlinguistique de ces stratégies ? La tr… @plus_info https://calenda-formation.labocleo.org/399691
LOCATION:Bordeaux
END:VEVENT
END:VCALENDAR
