BEGIN:VCALENDAR
VERSION:2.0
PRODID:-//https://calenda-formation.labocleo.org
X-WR-CALNAME:Calenda
X-WR-TIMEZONE:Europe/Paris
CALSCALE:GREGORIAN
X-WR-CALDESC:Le calendrier des lettres et sciences humaines et sociales
METHOD:PUBLISH
BEGIN:VEVENT
DTSTART;VALUE=DATE:20170430
DTEND;VALUE=DATE:20170501
UID:399955-20170430@calenda.revues.org
SUMMARY:L’enseignement – apprentissage du français langue étrangère (FLE) dans la perspective du Cadre européen commun de référence pour les langues (CECRL) en contextes non européens
URL:https://calenda-formation.labocleo.org/399955
DESCRIPTION:Le Centre de recherches sur les médiations (CREM)\, l'école doctorale Fernand Braudel (université de Lorraine) et le laboratoire Éditions\, langages\, littératures\, informatique\, arts\, didactiques\, discours (ELLIAD\, université de Bourgogne Franche-Comté… @plus_info https://calenda-formation.labocleo.org/399955
LOCATION:Metz
END:VEVENT
END:VCALENDAR
