BEGIN:VCALENDAR
VERSION:2.0
PRODID:-//https://calenda-formation.labocleo.org
X-WR-CALNAME:Calenda
X-WR-TIMEZONE:Europe/Paris
CALSCALE:GREGORIAN
X-WR-CALDESC:The calendar for arts, humanities and social sciences
METHOD:PUBLISH
BEGIN:VEVENT
DTSTART;VALUE=DATE:20170615
DTEND;VALUE=DATE:20170616
UID:400423-20170615@calenda.revues.org
SUMMARY:Youtubers - figures\, formats\, knowledge\, power
URL:https://calenda-formation.labocleo.org/400423
DESCRIPTION:L’équipe de recherche en sciences de l’information et de la communication Prim (Pratiques et ressources de l’information et des médiations)\, de l’université François-Rabelais de Tours\, organise un colloque de deux jours autour de cette nouvelle figur… @plus_info https://calenda-formation.labocleo.org/400423
LOCATION:Tours
END:VEVENT
END:VCALENDAR
