BEGIN:VCALENDAR
VERSION:2.0
PRODID:-//https://calenda-formation.labocleo.org
X-WR-CALNAME:Calenda
X-WR-TIMEZONE:Europe/Paris
CALSCALE:GREGORIAN
X-WR-CALDESC:O calendário de letras e de ciências sociais e humanas
METHOD:PUBLISH
BEGIN:VEVENT
DTSTART;VALUE=DATE:20170430
DTEND;VALUE=DATE:20170501
UID:400708-20170430@calenda.revues.org
SUMMARY:Archéologie et paysage : conjuguer l’étude et la mise en valeur des patrimoines culturel et naturel
URL:https://calenda-formation.labocleo.org/400708
DESCRIPTION:Depuis un siècle\, le champ patrimonial connaît une extension remarquable. Alors que les notions de patrimoine culturel et patrimoine naturel s’enrichissent\, leurs interactions sont désormais au cœur des enjeux de connaissance\, de protection et de mis… @plus_info https://calenda-formation.labocleo.org/400708
LOCATION:
END:VEVENT
END:VCALENDAR
