BEGIN:VCALENDAR
VERSION:2.0
PRODID:-//https://calenda-formation.labocleo.org
X-WR-CALNAME:Calenda
X-WR-TIMEZONE:Europe/Paris
CALSCALE:GREGORIAN
X-WR-CALDESC:Le calendrier des lettres et sciences humaines et sociales
METHOD:PUBLISH
BEGIN:VEVENT
DTSTART;VALUE=DATE:20170616
DTEND;VALUE=DATE:20170617
UID:400791-20170616@calenda.revues.org
SUMMARY:Lésions cérébrales acquises dans l'enfance et l'adolescence
URL:https://calenda-formation.labocleo.org/400791
DESCRIPTION:Ce colloque concerne l’enfant\, l’adolescent et le jeune adulte victime de lésions cérébrales acquises. Il s’intéresse tout particulièrement aux conséquences de ces lésions lors du retour à la scolarité\, la poursuite d’études ou la préparation d’une i… @plus_info https://calenda-formation.labocleo.org/400791
LOCATION:Paris
END:VEVENT
END:VCALENDAR
