BEGIN:VCALENDAR
VERSION:2.0
PRODID:-//https://calenda-formation.labocleo.org
X-WR-CALNAME:Calenda
X-WR-TIMEZONE:Europe/Paris
CALSCALE:GREGORIAN
X-WR-CALDESC:The calendar for arts, humanities and social sciences
METHOD:PUBLISH
BEGIN:VEVENT
DTSTART;VALUE=DATE:20170601
DTEND;VALUE=DATE:20170602
UID:400831-20170601@calenda.revues.org
SUMMARY:Mythologies in Islamic lands
URL:https://calenda-formation.labocleo.org/400831
DESCRIPTION:New Comparative Mythology\, international peer-reviewed journal of comparative mythology\, launches for its fourth issue a call for contributions for its thematic section (“Thema”) on the theme “Mythologies in Islamic lands”. … @plus_info https://calenda-formation.labocleo.org/400831
LOCATION:
END:VEVENT
END:VCALENDAR
