BEGIN:VCALENDAR
VERSION:2.0
PRODID:-//https://calenda-formation.labocleo.org
X-WR-CALNAME:Calenda
X-WR-TIMEZONE:Europe/Paris
CALSCALE:GREGORIAN
X-WR-CALDESC:O calendário de letras e de ciências sociais e humanas
METHOD:PUBLISH
BEGIN:VEVENT
DTSTART;VALUE=DATE:20170430
DTEND;VALUE=DATE:20170501
UID:400973-20170430@calenda.revues.org
SUMMARY:Bioart et biodesign
URL:https://calenda-formation.labocleo.org/400973
DESCRIPTION:ce workshop vise à faire un état des lieux des actions menées au sein du périmètre  « Paris Sciences et Lettres » (PSL) au croisement des sciences et des arts en relation avec le vivant\, l’objectif étant de mieux comprendre les pratiques interdiscipl… @plus_info https://calenda-formation.labocleo.org/400973
LOCATION:Paris
END:VEVENT
END:VCALENDAR
