BEGIN:VCALENDAR
VERSION:2.0
PRODID:-//https://calenda-formation.labocleo.org
X-WR-CALNAME:Calenda
X-WR-TIMEZONE:Europe/Paris
CALSCALE:GREGORIAN
X-WR-CALDESC:Le calendrier des lettres et sciences humaines et sociales
METHOD:PUBLISH
BEGIN:VEVENT
DTSTART;VALUE=DATE:20170427
DTEND;VALUE=DATE:20170428
UID:401043-20170427@calenda.revues.org
SUMMARY:Singing the Past
URL:https://calenda-formation.labocleo.org/401043
DESCRIPTION:This international conference intends to investigate how songs can constitute means to narrate historical events as well as social and political figures. This symposium intends to explore “unofficial” narratives that are clearly distinct from or oppo… Weitere Informationen https://calenda-formation.labocleo.org/401043
LOCATION:Lissabon
END:VEVENT
BEGIN:VEVENT
DTSTART;VALUE=DATE:20170428
DTEND;VALUE=DATE:20170429
UID:401043-20170428@calenda.revues.org
SUMMARY:Singing the Past
URL:https://calenda-formation.labocleo.org/401043
DESCRIPTION:This international conference intends to investigate how songs can constitute means to narrate historical events as well as social and political figures. This symposium intends to explore “unofficial” narratives that are clearly distinct from or oppo… Weitere Informationen https://calenda-formation.labocleo.org/401043
LOCATION:Lissabon
END:VEVENT
END:VCALENDAR
