BEGIN:VCALENDAR
VERSION:2.0
PRODID:-//https://calenda-formation.labocleo.org
X-WR-CALNAME:Calenda
X-WR-TIMEZONE:Europe/Paris
CALSCALE:GREGORIAN
X-WR-CALDESC:The calendar for arts, humanities and social sciences
METHOD:PUBLISH
BEGIN:VEVENT
DTSTART;VALUE=DATE:20170609
DTEND;VALUE=DATE:20170610
UID:401135-20170609@calenda.revues.org
SUMMARY:Freeze-frame - 8th Valvert conference
URL:https://calenda-formation.labocleo.org/401135
DESCRIPTION:Ce congrès national propose sur deux journées une réflexion autour d’un thème original\, intéressant au départ la psychiatrie\, mais en l’enrichissant\, au-delà clinique traditionnelle\, de références issues de disciplines situées hors du champ strict de… @plus_info https://calenda-formation.labocleo.org/401135
LOCATION:Marseille
END:VEVENT
BEGIN:VEVENT
DTSTART;VALUE=DATE:20170610
DTEND;VALUE=DATE:20170611
UID:401135-20170610@calenda.revues.org
SUMMARY:Freeze-frame - 8th Valvert conference
URL:https://calenda-formation.labocleo.org/401135
DESCRIPTION:Ce congrès national propose sur deux journées une réflexion autour d’un thème original\, intéressant au départ la psychiatrie\, mais en l’enrichissant\, au-delà clinique traditionnelle\, de références issues de disciplines situées hors du champ strict de… @plus_info https://calenda-formation.labocleo.org/401135
LOCATION:Marseille
END:VEVENT
END:VCALENDAR
