BEGIN:VCALENDAR
VERSION:2.0
PRODID:-//https://calenda-formation.labocleo.org
X-WR-CALNAME:Calenda
X-WR-TIMEZONE:Europe/Paris
CALSCALE:GREGORIAN
X-WR-CALDESC:The calendar for arts, humanities and social sciences
METHOD:PUBLISH
BEGIN:VEVENT
DTSTART;VALUE=DATE:20170619
DTEND;VALUE=DATE:20170620
UID:401495-20170619@calenda.revues.org
SUMMARY:The Treaty of Rome and youth doctrine - sixty years on
URL:https://calenda-formation.labocleo.org/401495
DESCRIPTION:À l'occasion des soixante ans du traité de Rome\, cet appel à contribution sollicite la jeune doctrine afin de lui donner l'occasion de s'exprimer sur ce moment clé de l'intégration européenne. À chaque génération sa vision de l’intégration européenne… @plus_info https://calenda-formation.labocleo.org/401495
LOCATION:
END:VEVENT
END:VCALENDAR
