BEGIN:VCALENDAR
VERSION:2.0
PRODID:-//https://calenda-formation.labocleo.org
X-WR-CALNAME:Calenda
X-WR-TIMEZONE:Europe/Paris
CALSCALE:GREGORIAN
X-WR-CALDESC:Le calendrier des lettres et sciences humaines et sociales
METHOD:PUBLISH
BEGIN:VEVENT
DTSTART;VALUE=DATE:20170531
DTEND;VALUE=DATE:20170601
UID:402250-20170531@calenda.revues.org
SUMMARY:Lieux\, géo-littérature et médiations : la Lorraine des écrivains dans l’espace francophone 
URL:https://calenda-formation.labocleo.org/402250
DESCRIPTION:Ce colloque privilégiera la problématique de la construction des liens entre territoire\, espace\, littérature et médiations au sein de l'espace francophone autour de trois axes : lieux\, espaces et littérature\, l’attractivité territoriale et touristiqu… @plus_info https://calenda-formation.labocleo.org/402250
LOCATION:
END:VEVENT
END:VCALENDAR
