BEGIN:VCALENDAR
VERSION:2.0
PRODID:-//https://calenda-formation.labocleo.org
X-WR-CALNAME:Calenda
X-WR-TIMEZONE:Europe/Paris
CALSCALE:GREGORIAN
X-WR-CALDESC:The calendar for arts, humanities and social sciences
METHOD:PUBLISH
BEGIN:VEVENT
DTSTART;VALUE=DATE:20170630
DTEND;VALUE=DATE:20170701
UID:402309-20170630@calenda.revues.org
SUMMARY:Looking at the soul of New-France
URL:https://calenda-formation.labocleo.org/402309
DESCRIPTION:Le collectif d'anthropologie et d'histoire du spirituel sous l'Ancien Régime sollicite des propositions de chapitre pour un ouvrage pluridisciplinaire\, en français\, dédié à l'examen des expériences spirituelles individuelles et collectives en Nouvell… @plus_info https://calenda-formation.labocleo.org/402309
LOCATION:
END:VEVENT
END:VCALENDAR
