BEGIN:VCALENDAR
VERSION:2.0
PRODID:-//https://calenda-formation.labocleo.org
X-WR-CALNAME:Calenda
X-WR-TIMEZONE:Europe/Paris
CALSCALE:GREGORIAN
X-WR-CALDESC:Le calendrier des lettres et sciences humaines et sociales
METHOD:PUBLISH
BEGIN:VEVENT
DTSTART;VALUE=DATE:20170601
DTEND;VALUE=DATE:20170602
UID:402338-20170601@calenda.revues.org
SUMMARY:Les maladies chroniques aux Suds 
URL:https://calenda-formation.labocleo.org/402338
DESCRIPTION:Ce numéro thématique interroge le phénomène social particulier qu’est la maladie chronique en prenant en considération des contextes extrêmement variés. Il ne s’agit pas d’un « sud » considéré comme homogène\, mais de situations qui sont traversées pa… Weitere Informationen https://calenda-formation.labocleo.org/402338
LOCATION:
END:VEVENT
END:VCALENDAR
