BEGIN:VCALENDAR
VERSION:2.0
PRODID:-//https://calenda-formation.labocleo.org
X-WR-CALNAME:Calenda
X-WR-TIMEZONE:Europe/Paris
CALSCALE:GREGORIAN
X-WR-CALDESC:The calendar for arts, humanities and social sciences
METHOD:PUBLISH
BEGIN:VEVENT
DTSTART;VALUE=DATE:20170701
DTEND;VALUE=DATE:20170702
UID:402759-20170701@calenda.revues.org
SUMMARY:Jonathan Glover\, a pionnier in applied ethics 
URL:https://calenda-formation.labocleo.org/402759
DESCRIPTION:La Revue interdisciplinaire d’études utilitaristes consacre un numéro spécial au philosophe britannique Jonathan Glover à l’occasion de la première traduction française par Benoît Basse de l’un de ses ouvrages\, Questions de vie ou de mort (Labor et F… @plus_info https://calenda-formation.labocleo.org/402759
LOCATION:
END:VEVENT
END:VCALENDAR
