BEGIN:VCALENDAR
VERSION:2.0
PRODID:-//https://calenda-formation.labocleo.org
X-WR-CALNAME:Calenda
X-WR-TIMEZONE:Europe/Paris
CALSCALE:GREGORIAN
X-WR-CALDESC:The calendar for arts, humanities and social sciences
METHOD:PUBLISH
BEGIN:VEVENT
DTSTART;VALUE=DATE:20170630
DTEND;VALUE=DATE:20170701
UID:403081-20170630@calenda.revues.org
SUMMARY:The teaching and learning of academic writing with the aid of digital corpora
URL:https://calenda-formation.labocleo.org/403081
DESCRIPTION:In this issue of Lidil\, we focus on the teaching and learning of academic writing with the aid of digital corpora. There may be queries into the interest of using such mega-data ladened resources when writing academic texts in a foreign language. … @plus_info https://calenda-formation.labocleo.org/403081
LOCATION:
END:VEVENT
END:VCALENDAR
