BEGIN:VCALENDAR
VERSION:2.0
PRODID:-//https://calenda-formation.labocleo.org
X-WR-CALNAME:Calenda
X-WR-TIMEZONE:Europe/Paris
CALSCALE:GREGORIAN
X-WR-CALDESC:Le calendrier des lettres et sciences humaines et sociales
METHOD:PUBLISH
BEGIN:VEVENT
DTSTART;VALUE=DATE:20170626
DTEND;VALUE=DATE:20170627
UID:403436-20170626@calenda.revues.org
SUMMARY:Discernement et procédure
URL:https://calenda-formation.labocleo.org/403436
DESCRIPTION:Le réseau Ingenium soulève la problématique des liens entre procédure et discernement dans la formation et l’activité d’ingénieur. Nous aborderons ce questionnement à partir des activités économiques et sociales exercées par l’ingénieur\, qu’il s’agis… Weitere Informationen https://calenda-formation.labocleo.org/403436
LOCATION:Paris
END:VEVENT
END:VCALENDAR
