BEGIN:VCALENDAR
VERSION:2.0
PRODID:-//https://calenda-formation.labocleo.org
X-WR-CALNAME:Calenda
X-WR-TIMEZONE:Europe/Paris
CALSCALE:GREGORIAN
X-WR-CALDESC:The calendar for arts, humanities and social sciences
METHOD:PUBLISH
BEGIN:VEVENT
DTSTART;VALUE=DATE:20170629
DTEND;VALUE=DATE:20170630
UID:403597-20170629@calenda.revues.org
SUMMARY:Social Classes in Contemporary Societies
URL:https://calenda-formation.labocleo.org/403597
DESCRIPTION:This conference\, organized by the Center for Studies in Social Change (OSC)\, calls into question the current concept of “class” in the contemporary social sciences. It will bring together specialists from a wide range of thematics\, theoretical and me… @plus_info https://calenda-formation.labocleo.org/403597
LOCATION:Paris
END:VEVENT
BEGIN:VEVENT
DTSTART;VALUE=DATE:20170630
DTEND;VALUE=DATE:20170701
UID:403597-20170630@calenda.revues.org
SUMMARY:Social Classes in Contemporary Societies
URL:https://calenda-formation.labocleo.org/403597
DESCRIPTION:This conference\, organized by the Center for Studies in Social Change (OSC)\, calls into question the current concept of “class” in the contemporary social sciences. It will bring together specialists from a wide range of thematics\, theoretical and me… @plus_info https://calenda-formation.labocleo.org/403597
LOCATION:Paris
END:VEVENT
END:VCALENDAR
