BEGIN:VCALENDAR
VERSION:2.0
PRODID:-//https://calenda-formation.labocleo.org
X-WR-CALNAME:Calenda
X-WR-TIMEZONE:Europe/Paris
CALSCALE:GREGORIAN
X-WR-CALDESC:Le calendrier des lettres et sciences humaines et sociales
METHOD:PUBLISH
BEGIN:VEVENT
DTSTART;VALUE=DATE:20170531
DTEND;VALUE=DATE:20170601
UID:403912-20170531@calenda.revues.org
SUMMARY:Enquête sur la communication scientifique ouverte
URL:https://calenda-formation.labocleo.org/403912
DESCRIPTION:Le consortium OPERAS (Open access in the European research area through scholarly communication) lance une enquête sur les usages de l'open access\, en particulier dans le domaine des sciences humaines et sociales. L'enquête a pour but d'identifier le… Weitere Informationen https://calenda-formation.labocleo.org/403912
LOCATION:
END:VEVENT
END:VCALENDAR
