BEGIN:VCALENDAR
VERSION:2.0
PRODID:-//https://calenda-formation.labocleo.org
X-WR-CALNAME:Calenda
X-WR-TIMEZONE:Europe/Paris
CALSCALE:GREGORIAN
X-WR-CALDESC:Le calendrier des lettres et sciences humaines et sociales
METHOD:PUBLISH
BEGIN:VEVENT
DTSTART;VALUE=DATE:20170615
DTEND;VALUE=DATE:20170616
UID:404512-20170615@calenda.revues.org
SUMMARY:Cacher
URL:https://calenda-formation.labocleo.org/404512
DESCRIPTION:Ce numéro d’Intermédialités propose d’examiner la relation dynamique entre formes de dissimulation et formes de détection. Chaque nouveau stratagème de dissimulation engendre un nouvel arsenal de détection\, générant en retour de nouvelles formes de d… @plus_info https://calenda-formation.labocleo.org/404512
LOCATION:
END:VEVENT
END:VCALENDAR
