BEGIN:VCALENDAR
VERSION:2.0
PRODID:-//https://calenda-formation.labocleo.org
X-WR-CALNAME:Calenda
X-WR-TIMEZONE:Europe/Paris
CALSCALE:GREGORIAN
X-WR-CALDESC:O calendário de letras e de ciências sociais e humanas
METHOD:PUBLISH
BEGIN:VEVENT
DTSTART;VALUE=DATE:20170530
DTEND;VALUE=DATE:20170531
UID:404623-20170530@calenda.revues.org
SUMMARY:Symbolique\, traditions et identités militaires
URL:https://calenda-formation.labocleo.org/404623
DESCRIPTION:Comme tout groupe professionnel\, la société militaire cultive ses traditions et son patrimoine symbolique. Toutefois\, ce trait relativement commun\, possède\, dans cet univers\, des caractères très spécifiques et\, surtout\, particulièrement marqués. La s… @plus_info https://calenda-formation.labocleo.org/404623
LOCATION:
END:VEVENT
END:VCALENDAR
