BEGIN:VCALENDAR
VERSION:2.0
PRODID:-//https://calenda-formation.labocleo.org
X-WR-CALNAME:Calenda
X-WR-TIMEZONE:Europe/Paris
CALSCALE:GREGORIAN
X-WR-CALDESC:Le calendrier des lettres et sciences humaines et sociales
METHOD:PUBLISH
BEGIN:VEVENT
DTSTART;VALUE=DATE:20170901
DTEND;VALUE=DATE:20170902
UID:405033-20170901@calenda.revues.org
SUMMARY:Conflits
URL:https://calenda-formation.labocleo.org/405033
DESCRIPTION:Ce nouveau numéro d’Epistrophy propose de considérer le jazz à travers le prisme des conflits qui ont jalonné son histoire et informé son identité. Qu’il s’agisse des joutes ludiques et des confrontations symboliques mises en jeu dans la performance … @plus_info https://calenda-formation.labocleo.org/405033
LOCATION:
END:VEVENT
END:VCALENDAR
