BEGIN:VCALENDAR
VERSION:2.0
PRODID:-//https://calenda-formation.labocleo.org
X-WR-CALNAME:Calenda
X-WR-TIMEZONE:Europe/Paris
CALSCALE:GREGORIAN
X-WR-CALDESC:O calendário de letras e de ciências sociais e humanas
METHOD:PUBLISH
BEGIN:VEVENT
DTSTART;VALUE=DATE:20170731
DTEND;VALUE=DATE:20170801
UID:405072-20170731@calenda.revues.org
SUMMARY:L’enseignement / apprentissage du français au Maroc au XXIe siècle
URL:https://calenda-formation.labocleo.org/405072
DESCRIPTION:Le français a toujours occupé une place particulière dans les réformes que l’enseignement a connues depuis l’avènement de l’indépendance du Maroc. L’enseignement / apprentissage de cette langue était souvent lié à des enjeux politiques\, économiques\, … @plus_info https://calenda-formation.labocleo.org/405072
LOCATION:
END:VEVENT
END:VCALENDAR
