BEGIN:VCALENDAR
VERSION:2.0
PRODID:-//https://calenda-formation.labocleo.org
X-WR-CALNAME:Calenda
X-WR-TIMEZONE:Europe/Paris
CALSCALE:GREGORIAN
X-WR-CALDESC:O calendário de letras e de ciências sociais e humanas
METHOD:PUBLISH
BEGIN:VEVENT
DTSTART;VALUE=DATE:20170601
DTEND;VALUE=DATE:20170602
UID:405113-20170601@calenda.revues.org
SUMMARY:Pour une histoire des relations culturelles des Amériques au XXe siècle
URL:https://calenda-formation.labocleo.org/405113
DESCRIPTION:S’inscrivant au carrefour de l’histoire (culturelle\, politique et des relations internationales) et des études culturelles des pays américains\, ce colloque multidisciplinaire se propose de réunir des spécialistes\, qu’ils soient doctorants ou chercheu… @plus_info https://calenda-formation.labocleo.org/405113
LOCATION:Lyon
END:VEVENT
END:VCALENDAR
