BEGIN:VCALENDAR
VERSION:2.0
PRODID:-//https://calenda-formation.labocleo.org
X-WR-CALNAME:Calenda
X-WR-TIMEZONE:Europe/Paris
CALSCALE:GREGORIAN
X-WR-CALDESC:The calendar for arts, humanities and social sciences
METHOD:PUBLISH
BEGIN:VEVENT
DTSTART;VALUE=DATE:20170709
DTEND;VALUE=DATE:20170710
UID:405141-20170709@calenda.revues.org
SUMMARY:Port towns - a border space. Comparative approaches in history and literature
URL:https://calenda-formation.labocleo.org/405141
DESCRIPTION:Cette journée d’étude se propose d’engager une réflexion sur la ville portuaire européenne\, son histoire et ses représentations\, tant matérielles qu’imaginaires et symboliques. Nous traiterons ici exclusivement des ports maritimes. La réflexion suivr… @plus_info https://calenda-formation.labocleo.org/405141
LOCATION:Dunkirk
END:VEVENT
END:VCALENDAR
