BEGIN:VCALENDAR
VERSION:2.0
PRODID:-//https://calenda-formation.labocleo.org
X-WR-CALNAME:Calenda
X-WR-TIMEZONE:Europe/Paris
CALSCALE:GREGORIAN
X-WR-CALDESC:O calendário de letras e de ciências sociais e humanas
METHOD:PUBLISH
BEGIN:VEVENT
DTSTART;VALUE=DATE:20170711
DTEND;VALUE=DATE:20170712
UID:405322-20170711@calenda.revues.org
SUMMARY:Fondements épistémologiques et théoriques de la science de l’information-documentation
URL:https://calenda-formation.labocleo.org/405322
DESCRIPTION:L’édition de 2017 est voulue comme un hommage rendu aux visionnaires et théoriciens francophones des Sciences de l’information tels que Paul Otlet\, Suzanne Briet\, Jean-Claude Gardin\, Eric de Grolier\, Jean Meyriat\, Robert Escarpit\, Robert Pagès\, Madel… @plus_info https://calenda-formation.labocleo.org/405322
LOCATION:
END:VEVENT
BEGIN:VEVENT
DTSTART;VALUE=DATE:20170712
DTEND;VALUE=DATE:20170713
UID:405322-20170712@calenda.revues.org
SUMMARY:Fondements épistémologiques et théoriques de la science de l’information-documentation
URL:https://calenda-formation.labocleo.org/405322
DESCRIPTION:L’édition de 2017 est voulue comme un hommage rendu aux visionnaires et théoriciens francophones des Sciences de l’information tels que Paul Otlet\, Suzanne Briet\, Jean-Claude Gardin\, Eric de Grolier\, Jean Meyriat\, Robert Escarpit\, Robert Pagès\, Madel… @plus_info https://calenda-formation.labocleo.org/405322
LOCATION:
END:VEVENT
END:VCALENDAR
