BEGIN:VCALENDAR
VERSION:2.0
PRODID:-//https://calenda-formation.labocleo.org
X-WR-CALNAME:Calenda
X-WR-TIMEZONE:Europe/Paris
CALSCALE:GREGORIAN
X-WR-CALDESC:Le calendrier des lettres et sciences humaines et sociales
METHOD:PUBLISH
BEGIN:VEVENT
DTSTART;VALUE=DATE:20170622
DTEND;VALUE=DATE:20170623
UID:405617-20170622@calenda.revues.org
SUMMARY:Néolibéralisme et religion
URL:https://calenda-formation.labocleo.org/405617
DESCRIPTION:Le programme Paris sciences et lettres (PSL) « Agenda pour une sociologie critique des religions» organise le 22 juin 2017 un atelier sur le thème « Néolibéralisme et religion ». … Más informaciones https://calenda-formation.labocleo.org/405617
LOCATION:París
END:VEVENT
END:VCALENDAR
