BEGIN:VCALENDAR
VERSION:2.0
PRODID:-//https://calenda-formation.labocleo.org
X-WR-CALNAME:Calenda
X-WR-TIMEZONE:Europe/Paris
CALSCALE:GREGORIAN
X-WR-CALDESC:The calendar for arts, humanities and social sciences
METHOD:PUBLISH
BEGIN:VEVENT
DTSTART;VALUE=DATE:20170601
DTEND;VALUE=DATE:20170602
UID:405952-20170601@calenda.revues.org
SUMMARY:Ageing\, new IT and communication technologies and the silver economy
URL:https://calenda-formation.labocleo.org/405952
DESCRIPTION:Le Réseau Francophone des Villes Amies des Aînés (RFVAA) est une association Loi 1901 créée en 2012 et affiliée au réseau mondial des villes et communautés amies des aînés de l'Organisation mondiale de la santé (OMS). Aujourd'hui\, elle réunit des adh… @plus_info https://calenda-formation.labocleo.org/405952
LOCATION:
END:VEVENT
END:VCALENDAR
