BEGIN:VCALENDAR
VERSION:2.0
PRODID:-//https://calenda-formation.labocleo.org
X-WR-CALNAME:Calenda
X-WR-TIMEZONE:Europe/Paris
CALSCALE:GREGORIAN
X-WR-CALDESC:The calendar for arts, humanities and social sciences
METHOD:PUBLISH
BEGIN:VEVENT
DTSTART;VALUE=DATE:20170915
DTEND;VALUE=DATE:20170916
UID:406001-20170915@calenda.revues.org
SUMMARY:The circulation of linguistic and philological knowledge between Germany and the world\, 16th to 20th century
URL:https://calenda-formation.labocleo.org/406001
DESCRIPTION:By all measures\, Germany played an overwhelming role in the development of philology and linguistics during the 19th century. This ascendancy rests on the transmission to other national academies of theoretical constructs and views\, methods and insti… @plus_info https://calenda-formation.labocleo.org/406001
LOCATION:Paris
END:VEVENT
END:VCALENDAR
