BEGIN:VCALENDAR
VERSION:2.0
PRODID:-//https://calenda-formation.labocleo.org
X-WR-CALNAME:Calenda
X-WR-TIMEZONE:Europe/Paris
CALSCALE:GREGORIAN
X-WR-CALDESC:The calendar for arts, humanities and social sciences
METHOD:PUBLISH
BEGIN:VEVENT
DTSTART;VALUE=DATE:20170730
DTEND;VALUE=DATE:20170731
UID:406454-20170730@calenda.revues.org
SUMMARY:Dance and cinema - research in movement - Images Secondes journal\, issue 1
URL:https://calenda-formation.labocleo.org/406454
DESCRIPTION:Le premier numéro d’Images Secondes vise à participer à l’élaboration d’une littérature critique sur les problématiques\, diverses et complémentaires\, qui interrogent la présence de la danse au cinéma. La mise en regard de contributions puisant dans l… @plus_info https://calenda-formation.labocleo.org/406454
LOCATION:
END:VEVENT
END:VCALENDAR
