BEGIN:VCALENDAR
VERSION:2.0
PRODID:-//https://calenda-formation.labocleo.org
X-WR-CALNAME:Calenda
X-WR-TIMEZONE:Europe/Paris
CALSCALE:GREGORIAN
X-WR-CALDESC:Le calendrier des lettres et sciences humaines et sociales
METHOD:PUBLISH
BEGIN:VEVENT
DTSTART;VALUE=DATE:20170615
DTEND;VALUE=DATE:20170616
UID:406545-20170615@calenda.revues.org
SUMMARY:The imagined woman in Medieval and Early Modern Europe
URL:https://calenda-formation.labocleo.org/406545
DESCRIPTION:With a decidedly interdisciplinary agenda\, and focusing on Medieval and Early Modern Europe\, this conference investigates the image and imagery of women\, as well as the concepts attached to both. In suggesting an approach capable of integrating diver… Más informaciones https://calenda-formation.labocleo.org/406545
LOCATION:Berlín
END:VEVENT
BEGIN:VEVENT
DTSTART;VALUE=DATE:20170616
DTEND;VALUE=DATE:20170617
UID:406545-20170616@calenda.revues.org
SUMMARY:The imagined woman in Medieval and Early Modern Europe
URL:https://calenda-formation.labocleo.org/406545
DESCRIPTION:With a decidedly interdisciplinary agenda\, and focusing on Medieval and Early Modern Europe\, this conference investigates the image and imagery of women\, as well as the concepts attached to both. In suggesting an approach capable of integrating diver… Más informaciones https://calenda-formation.labocleo.org/406545
LOCATION:Berlín
END:VEVENT
END:VCALENDAR
