BEGIN:VCALENDAR
VERSION:2.0
PRODID:-//https://calenda-formation.labocleo.org
X-WR-CALNAME:Calenda
X-WR-TIMEZONE:Europe/Paris
CALSCALE:GREGORIAN
X-WR-CALDESC:O calendário de letras e de ciências sociais e humanas
METHOD:PUBLISH
BEGIN:VEVENT
DTSTART;VALUE=DATE:20180901
DTEND;VALUE=DATE:20180902
UID:406863-20180901@calenda.revues.org
SUMMARY:Appel à articles sur l'épicurisme
URL:https://calenda-formation.labocleo.org/406863
DESCRIPTION:La revue Philosophie antique lance un appel à contributions pour un dossier sur « L'épicurisme antique » prévu pour son numéro de 2019. Aucune thématique spécifique n’est définie : tous les aspects de la pensée épicurienne et de ses relations avec se… @plus_info https://calenda-formation.labocleo.org/406863
LOCATION:
END:VEVENT
END:VCALENDAR
