BEGIN:VCALENDAR
VERSION:2.0
PRODID:-//https://calenda-formation.labocleo.org
X-WR-CALNAME:Calenda
X-WR-TIMEZONE:Europe/Paris
CALSCALE:GREGORIAN
X-WR-CALDESC:Le calendrier des lettres et sciences humaines et sociales
METHOD:PUBLISH
BEGIN:VEVENT
DTSTART;VALUE=DATE:20170602
DTEND;VALUE=DATE:20170603
UID:406951-20170602@calenda.revues.org
SUMMARY:Séances des années folles. Salles\, pratiques\, techniques
URL:https://calenda-formation.labocleo.org/406951
DESCRIPTION:Introduction au projet de recherche « Séances de cinéma : sémantique\, pratiques et imaginaires » porté par les membres de Kinétraces\, cette journée d’études vise à engager une réflexion sur la notion de séance dans la France des années folles\, en int… @plus_info https://calenda-formation.labocleo.org/406951
LOCATION:Paris
END:VEVENT
END:VCALENDAR
