BEGIN:VCALENDAR
VERSION:2.0
PRODID:-//https://calenda-formation.labocleo.org
X-WR-CALNAME:Calenda
X-WR-TIMEZONE:Europe/Paris
CALSCALE:GREGORIAN
X-WR-CALDESC:The calendar for arts, humanities and social sciences
METHOD:PUBLISH
BEGIN:VEVENT
DTSTART;VALUE=DATE:20170710
DTEND;VALUE=DATE:20170711
UID:407112-20170710@calenda.revues.org
SUMMARY:Strategies and recognition techniques in the field of design and the decorative arts
URL:https://calenda-formation.labocleo.org/407112
DESCRIPTION:Dans le domaine de la recherche\, la question d’un design à la fois comme champ disciplinaire et sujet à interroger\, se pose avec acuité. Malgré l’engouement dont il fait l’objet au quotidien\, le design – et les domaines rattachés industrie\, industrie… @plus_info https://calenda-formation.labocleo.org/407112
LOCATION:Saint-Étienne
END:VEVENT
END:VCALENDAR
