BEGIN:VCALENDAR
VERSION:2.0
PRODID:-//https://calenda-formation.labocleo.org
X-WR-CALNAME:Calenda
X-WR-TIMEZONE:Europe/Paris
CALSCALE:GREGORIAN
X-WR-CALDESC:The calendar for arts, humanities and social sciences
METHOD:PUBLISH
BEGIN:VEVENT
DTSTART;VALUE=DATE:20171015
DTEND;VALUE=DATE:20171016
UID:407259-20171015@calenda.revues.org
SUMMARY:Arpanet (1969-2019)
URL:https://calenda-formation.labocleo.org/407259
DESCRIPTION:This call aims at revisiting the history and historiography of the Arpanet\, at the occasion of the 50th anniversary of the ancestor of the Internet. … @plus_info https://calenda-formation.labocleo.org/407259
LOCATION:
END:VEVENT
END:VCALENDAR
