BEGIN:VCALENDAR
VERSION:2.0
PRODID:-//https://calenda-formation.labocleo.org
X-WR-CALNAME:Calenda
X-WR-TIMEZONE:Europe/Paris
CALSCALE:GREGORIAN
X-WR-CALDESC:The calendar for arts, humanities and social sciences
METHOD:PUBLISH
BEGIN:VEVENT
DTSTART;VALUE=DATE:20170627
DTEND;VALUE=DATE:20170628
UID:408159-20170627@calenda.revues.org
SUMMARY:Schools and migration
URL:https://calenda-formation.labocleo.org/408159
DESCRIPTION:Dans le contexte des migrations juvéniles en pleine évolution\, cette journée d’étude vise à interroger les dynamiques participant à la construction des expériences scolaires des enfants et jeunes migrants et itinérants ainsi qu’à celles des acteurs é… @plus_info https://calenda-formation.labocleo.org/408159
LOCATION:Suresnes
END:VEVENT
END:VCALENDAR
