BEGIN:VCALENDAR
VERSION:2.0
PRODID:-//https://calenda-formation.labocleo.org
X-WR-CALNAME:Calenda
X-WR-TIMEZONE:Europe/Paris
CALSCALE:GREGORIAN
X-WR-CALDESC:Le calendrier des lettres et sciences humaines et sociales
METHOD:PUBLISH
BEGIN:VEVENT
DTSTART;VALUE=DATE:20170621
DTEND;VALUE=DATE:20170622
UID:408604-20170621@calenda.revues.org
SUMMARY:Explorations interdisciplinaires autour du vivant
URL:https://calenda-formation.labocleo.org/408604
DESCRIPTION:Ce workshop vise à faire un état des lieux des actions menées au sein du périmètre Paris sciences et lettres (PSL)\, au croisement des sciences et des arts\, en relation avec le vivant. L’objectif est de mieux comprendre les pratiques interdisciplinair… Weitere Informationen https://calenda-formation.labocleo.org/408604
LOCATION:Paris
END:VEVENT
END:VCALENDAR
