BEGIN:VCALENDAR
VERSION:2.0
PRODID:-//https://calenda-formation.labocleo.org
X-WR-CALNAME:Calenda
X-WR-TIMEZONE:Europe/Paris
CALSCALE:GREGORIAN
X-WR-CALDESC:Le calendrier des lettres et sciences humaines et sociales
METHOD:PUBLISH
BEGIN:VEVENT
DTSTART;VALUE=DATE:20170915
DTEND;VALUE=DATE:20170916
UID:408658-20170915@calenda.revues.org
SUMMARY:Urban Kinships. Everyday Kinship and the making of the City
URL:https://calenda-formation.labocleo.org/408658
DESCRIPTION:Social sciences were long dominated by the notion that cities are places where kinship ties are weakened (Parsons 1955)\, but this view is widely challenged today. In addressing “urban kinships\,” this Articulo special issue aims to surpass the “great … @plus_info https://calenda-formation.labocleo.org/408658
LOCATION:
END:VEVENT
END:VCALENDAR
