BEGIN:VCALENDAR
VERSION:2.0
PRODID:-//https://calenda-formation.labocleo.org
X-WR-CALNAME:Calenda
X-WR-TIMEZONE:Europe/Paris
CALSCALE:GREGORIAN
X-WR-CALDESC:The calendar for arts, humanities and social sciences
METHOD:PUBLISH
BEGIN:VEVENT
DTSTART;VALUE=DATE:20170623
DTEND;VALUE=DATE:20170624
UID:408788-20170623@calenda.revues.org
SUMMARY:From the monument to the city
URL:https://calenda-formation.labocleo.org/408788
DESCRIPTION:« Du monument la ville » est une journée dédiée la présentation de travaux de doctorants de l'Institut de recherche sur l'architecture antique (USR 3155) portant sur des monuments (temples\, théâtres\, prytanées\, enclos funéraire\, forum) et des villes … @plus_info https://calenda-formation.labocleo.org/408788
LOCATION:Lyon
END:VEVENT
END:VCALENDAR
