BEGIN:VCALENDAR
VERSION:2.0
PRODID:-//https://calenda-formation.labocleo.org
X-WR-CALNAME:Calenda
X-WR-TIMEZONE:Europe/Paris
CALSCALE:GREGORIAN
X-WR-CALDESC:Le calendrier des lettres et sciences humaines et sociales
METHOD:PUBLISH
BEGIN:VEVENT
DTSTART;VALUE=DATE:20171101
DTEND;VALUE=DATE:20171102
UID:409216-20171101@calenda.revues.org
SUMMARY:Journal of Festive Studies
URL:https://calenda-formation.labocleo.org/409216
DESCRIPTION:    The journal’s stated aim is to draw together all academics who share an interest in festivities\, including but not limited to holiday celebrations\, family rituals\, carnivals\, religious feasts\, processions and parades\, and civic commemorations. Th… Weitere Informationen https://calenda-formation.labocleo.org/409216
LOCATION:
END:VEVENT
END:VCALENDAR
