BEGIN:VCALENDAR
VERSION:2.0
PRODID:-//https://calenda-formation.labocleo.org
X-WR-CALNAME:Calenda
X-WR-TIMEZONE:Europe/Paris
CALSCALE:GREGORIAN
X-WR-CALDESC:Le calendrier des lettres et sciences humaines et sociales
METHOD:PUBLISH
BEGIN:VEVENT
DTSTART;VALUE=DATE:20170621
DTEND;VALUE=DATE:20170622
UID:409455-20170621@calenda.revues.org
SUMMARY:Sémiotique du design d’information 
URL:https://calenda-formation.labocleo.org/409455
DESCRIPTION:Ce colloque interdisciplinaire aborde la question du design d'information sous l'angle de la remédiation graphique\, pratique et sociale et est le premier volet d'un programme financé par la Région Nouvelle Aquitaine (2016-2019). … Weitere Informationen https://calenda-formation.labocleo.org/409455
LOCATION:Pessac
END:VEVENT
BEGIN:VEVENT
DTSTART;VALUE=DATE:20170622
DTEND;VALUE=DATE:20170623
UID:409455-20170622@calenda.revues.org
SUMMARY:Sémiotique du design d’information 
URL:https://calenda-formation.labocleo.org/409455
DESCRIPTION:Ce colloque interdisciplinaire aborde la question du design d'information sous l'angle de la remédiation graphique\, pratique et sociale et est le premier volet d'un programme financé par la Région Nouvelle Aquitaine (2016-2019). … Weitere Informationen https://calenda-formation.labocleo.org/409455
LOCATION:Pessac
END:VEVENT
END:VCALENDAR
