BEGIN:VCALENDAR
VERSION:2.0
PRODID:-//https://calenda-formation.labocleo.org
X-WR-CALNAME:Calenda
X-WR-TIMEZONE:Europe/Paris
CALSCALE:GREGORIAN
X-WR-CALDESC:Le calendrier des lettres et sciences humaines et sociales
METHOD:PUBLISH
BEGIN:VEVENT
DTSTART;VALUE=DATE:20170914
DTEND;VALUE=DATE:20170915
UID:409548-20170914@calenda.revues.org
SUMMARY:L'initiative de la loi
URL:https://calenda-formation.labocleo.org/409548
DESCRIPTION:Le ForInCIP a vocation à étudier les institutions politiques de façon thématique et sous l’angle du droit comparé. Il consiste en une rencontre annuelle\, sur un thème déterminé\, réunissant des universitaires français et étrangers ainsi que des pratic… Weitere Informationen https://calenda-formation.labocleo.org/409548
LOCATION:Lille
END:VEVENT
BEGIN:VEVENT
DTSTART;VALUE=DATE:20170915
DTEND;VALUE=DATE:20170916
UID:409548-20170915@calenda.revues.org
SUMMARY:L'initiative de la loi
URL:https://calenda-formation.labocleo.org/409548
DESCRIPTION:Le ForInCIP a vocation à étudier les institutions politiques de façon thématique et sous l’angle du droit comparé. Il consiste en une rencontre annuelle\, sur un thème déterminé\, réunissant des universitaires français et étrangers ainsi que des pratic… Weitere Informationen https://calenda-formation.labocleo.org/409548
LOCATION:Lille
END:VEVENT
BEGIN:VEVENT
DTSTART;VALUE=DATE:20170916
DTEND;VALUE=DATE:20170917
UID:409548-20170916@calenda.revues.org
SUMMARY:L'initiative de la loi
URL:https://calenda-formation.labocleo.org/409548
DESCRIPTION:Le ForInCIP a vocation à étudier les institutions politiques de façon thématique et sous l’angle du droit comparé. Il consiste en une rencontre annuelle\, sur un thème déterminé\, réunissant des universitaires français et étrangers ainsi que des pratic… Weitere Informationen https://calenda-formation.labocleo.org/409548
LOCATION:Lille
END:VEVENT
END:VCALENDAR
