BEGIN:VCALENDAR
VERSION:2.0
PRODID:-//https://calenda-formation.labocleo.org
X-WR-CALNAME:Calenda
X-WR-TIMEZONE:Europe/Paris
CALSCALE:GREGORIAN
X-WR-CALDESC:Le calendrier des lettres et sciences humaines et sociales
METHOD:PUBLISH
BEGIN:VEVENT
DTSTART;VALUE=DATE:20170629
DTEND;VALUE=DATE:20170630
UID:409672-20170629@calenda.revues.org
SUMMARY:Migrantinnen-musik in den migrantenlagern
URL:https://calenda-formation.labocleo.org/409672
DESCRIPTION:Cette université d’été a deux objectifs. le premier est d'explorer un secteur mal étudié de l’ethnologie comme la musique dans les camps de transit. S’il existe une abondante littérature historienne et musicologique sur la musique dans les camps de c… Weitere Informationen https://calenda-formation.labocleo.org/409672
LOCATION:Bayonne
END:VEVENT
END:VCALENDAR
