BEGIN:VCALENDAR
VERSION:2.0
PRODID:-//https://calenda-formation.labocleo.org
X-WR-CALNAME:Calenda
X-WR-TIMEZONE:Europe/Paris
CALSCALE:GREGORIAN
X-WR-CALDESC:Le calendrier des lettres et sciences humaines et sociales
METHOD:PUBLISH
BEGIN:VEVENT
DTSTART;VALUE=DATE:20170830
DTEND;VALUE=DATE:20170831
UID:410003-20170830@calenda.revues.org
SUMMARY:Against Conventions. Uncommon social roles of women and men from Early Modern Times to 1945
URL:https://calenda-formation.labocleo.org/410003
DESCRIPTION:The organizers propose to use tools which the category of gender gives in humanistic and social studies. However\, we would like to overcome present tendencies to separate studies related to women or men. We hope that during the meeting it will be pos… Weitere Informationen https://calenda-formation.labocleo.org/410003
LOCATION:Breslau
END:VEVENT
END:VCALENDAR
