BEGIN:VCALENDAR
VERSION:2.0
PRODID:-//https://calenda-formation.labocleo.org
X-WR-CALNAME:Calenda
X-WR-TIMEZONE:Europe/Paris
CALSCALE:GREGORIAN
X-WR-CALDESC:Le calendrier des lettres et sciences humaines et sociales
METHOD:PUBLISH
BEGIN:VEVENT
DTSTART;VALUE=DATE:20170910
DTEND;VALUE=DATE:20170911
UID:410401-20170910@calenda.revues.org
SUMMARY:Religion et classes sociales
URL:https://calenda-formation.labocleo.org/410401
DESCRIPTION:Ce projet de colloque est né de la conviction que le renouvellement des approches sur les classes sociales peut contribuer à améliorer notre compréhension des phénomènes religieux tout comme le religieux est susceptible de constituer une perspective … Weitere Informationen https://calenda-formation.labocleo.org/410401
LOCATION:Paris
END:VEVENT
END:VCALENDAR
