BEGIN:VCALENDAR
VERSION:2.0
PRODID:-//https://calenda-formation.labocleo.org
X-WR-CALNAME:Calenda
X-WR-TIMEZONE:Europe/Paris
CALSCALE:GREGORIAN
X-WR-CALDESC:The calendar for arts, humanities and social sciences
METHOD:PUBLISH
BEGIN:VEVENT
DTSTART;VALUE=DATE:20170714
DTEND;VALUE=DATE:20170715
UID:410694-20170714@calenda.revues.org
SUMMARY:Bolsa de Gestão de Ciência e Tecnologia
URL:https://calenda-formation.labocleo.org/410694
DESCRIPTION:Encontra-se aberto concurso para a atribuição de uma Bolsa de Gestão de Ciência e Tecnologia (BGCT) no âmbito do Projecto Centro de História da Universidade de Lisboa - HIS/04311\, financiado por fundos nacionais através da FCT/MCTES (PIDDAC) … @plus_info https://calenda-formation.labocleo.org/410694
LOCATION:Lisbon
END:VEVENT
BEGIN:VEVENT
DTSTART;VALUE=DATE:20170727
DTEND;VALUE=DATE:20170728
UID:410694-20170727@calenda.revues.org
SUMMARY:Bolsa de Gestão de Ciência e Tecnologia
URL:https://calenda-formation.labocleo.org/410694
DESCRIPTION:Encontra-se aberto concurso para a atribuição de uma Bolsa de Gestão de Ciência e Tecnologia (BGCT) no âmbito do Projecto Centro de História da Universidade de Lisboa - HIS/04311\, financiado por fundos nacionais através da FCT/MCTES (PIDDAC) … @plus_info https://calenda-formation.labocleo.org/410694
LOCATION:Lisbon
END:VEVENT
END:VCALENDAR
