BEGIN:VCALENDAR
VERSION:2.0
PRODID:-//https://calenda-formation.labocleo.org
X-WR-CALNAME:Calenda
X-WR-TIMEZONE:Europe/Paris
CALSCALE:GREGORIAN
X-WR-CALDESC:O calendário de letras e de ciências sociais e humanas
METHOD:PUBLISH
BEGIN:VEVENT
DTSTART;VALUE=DATE:20170930
DTEND;VALUE=DATE:20171001
UID:411058-20170930@calenda.revues.org
SUMMARY:Cultures musicales en Amérique latine (XVIe-XXIe siècle)
URL:https://calenda-formation.labocleo.org/411058
DESCRIPTION:Pour leur prochain numéro (n°35\, 1er semestre 2018)\, les Cahiers ALHIM publiés par l’université Paris 8 invitent des chercheurs issus de différents horizons (histoire\, ethnomusicologie\, sociologie de la musique…) à établir un état des lieux de la rec… @plus_info https://calenda-formation.labocleo.org/411058
LOCATION:
END:VEVENT
END:VCALENDAR
