BEGIN:VCALENDAR
VERSION:2.0
PRODID:-//https://calenda-formation.labocleo.org
X-WR-CALNAME:Calenda
X-WR-TIMEZONE:Europe/Paris
CALSCALE:GREGORIAN
X-WR-CALDESC:O calendário de letras e de ciências sociais e humanas
METHOD:PUBLISH
BEGIN:VEVENT
DTSTART;VALUE=DATE:20170910
DTEND;VALUE=DATE:20170911
UID:411475-20170910@calenda.revues.org
SUMMARY:Esclavages et couleurs dans les villes et les sociétés urbaines d’Afrique\, des Amériques et d’Europe\, XVe -XIXe siècle 
URL:https://calenda-formation.labocleo.org/411475
DESCRIPTION:Après de nombreux travaux consacrés aux sociétés esclavagistes ou à esclaves d’Europe\, d’Afrique et des Amériques\, ce colloque tentera d’apprécier en quoi les villes de ces espaces ont pu être\, du XVe au XIXe siècle\, les lieux d’une reconfiguration s… @plus_info https://calenda-formation.labocleo.org/411475
LOCATION:Schœlcher
END:VEVENT
END:VCALENDAR
