BEGIN:VCALENDAR
VERSION:2.0
PRODID:-//https://calenda-formation.labocleo.org
X-WR-CALNAME:Calenda
X-WR-TIMEZONE:Europe/Paris
CALSCALE:GREGORIAN
X-WR-CALDESC:Le calendrier des lettres et sciences humaines et sociales
METHOD:PUBLISH
BEGIN:VEVENT
DTSTART;VALUE=DATE:20170919
DTEND;VALUE=DATE:20170920
UID:411747-20170919@calenda.revues.org
SUMMARY:L'action publique en direction des parents : quels problèmes ? quelles réponses ?
URL:https://calenda-formation.labocleo.org/411747
DESCRIPTION:Depuis une vingtaine d’années\, les pouvoirs publics se sont engagés\, en France comme ailleurs\, dans des actions et des dispositifs visant à soutenir les parents dans leur travail éducatif\, de soin et de socialisation envers leurs enfants. Mais les pr… @plus_info https://calenda-formation.labocleo.org/411747
LOCATION:Paris
END:VEVENT
END:VCALENDAR
